BEGIN:VCALENDAR
VERSION:2.0
PRODID:-//PDM - Peter Doseck Ministries - ECPv5.1.2.1//NONSGML v1.0//EN
CALSCALE:GREGORIAN
METHOD:PUBLISH
X-WR-CALNAME:PDM - Peter Doseck Ministries
X-ORIGINAL-URL:https://peterdoseck.com
X-WR-CALDESC:Events for PDM - Peter Doseck Ministries
BEGIN:VTIMEZONE
TZID:UTC
BEGIN:STANDARD
TZOFFSETFROM:+0000
TZOFFSETTO:+0000
TZNAME:UTC
DTSTART:20190101T000000
END:STANDARD
END:VTIMEZONE
BEGIN:VEVENT
DTSTART;TZID=UTC:20190515T193000
DTEND;TZID=UTC:20190515T210000
DTSTAMP:20260423T144226
CREATED:20190425T210722Z
LAST-MODIFIED:20190425T211533Z
UID:3551-1557948600-1557954000@peterdoseck.com
SUMMARY:Agape Family Worship Center
DESCRIPTION:Pastor Peter Doseck will minister at Agape Family Worship Center with Pastor Lawrence Powell on Wednesday\, May 15 at 7:30 pm. The church is located at 501 E. Hazelwood Ave. in Rahway\, NJ. For more information\, you may call 732.680.9800\, or visit agapecenter.org. \n
URL:https://peterdoseck.com/event/agape-family-worship-center-2/
LOCATION:Agape Family Worship Center\, 501 E. Hazelwood Ave.\, Rahway\, NJ\, 07065\, United States
END:VEVENT
END:VCALENDAR