BEGIN:VCALENDAR
VERSION:2.0
PRODID:-//PDM - Peter Doseck Ministries - ECPv5.1.2.1//NONSGML v1.0//EN
CALSCALE:GREGORIAN
METHOD:PUBLISH
X-WR-CALNAME:PDM - Peter Doseck Ministries
X-ORIGINAL-URL:https://peterdoseck.com
X-WR-CALDESC:Events for PDM - Peter Doseck Ministries
BEGIN:VTIMEZONE
TZID:UTC
BEGIN:STANDARD
TZOFFSETFROM:+0000
TZOFFSETTO:+0000
TZNAME:UTC
DTSTART:20170101T000000
END:STANDARD
END:VTIMEZONE
BEGIN:VEVENT
DTSTART;TZID=UTC:20171029T180000
DTEND;TZID=UTC:20171029T200000
DTSTAMP:20260423T202016
CREATED:20170926T182804Z
LAST-MODIFIED:20170928T223747Z
UID:2526-1509300000-1509307200@peterdoseck.com
SUMMARY:Bloomington\, IN
DESCRIPTION:
URL:https://peterdoseck.com/event/bloomington/
LOCATION:City Church\, 1200 N. Russell Rd.\, Bloomington\, IN\, 47408\, United States
END:VEVENT
END:VCALENDAR