BEGIN:VCALENDAR
VERSION:2.0
PRODID:-//PDM - Peter Doseck Ministries - ECPv5.1.2.1//NONSGML v1.0//EN
CALSCALE:GREGORIAN
METHOD:PUBLISH
X-WR-CALNAME:PDM - Peter Doseck Ministries
X-ORIGINAL-URL:https://peterdoseck.com
X-WR-CALDESC:Events for PDM - Peter Doseck Ministries
BEGIN:VTIMEZONE
TZID:UTC
BEGIN:STANDARD
TZOFFSETFROM:+0000
TZOFFSETTO:+0000
TZNAME:UTC
DTSTART:20180101T000000
END:STANDARD
END:VTIMEZONE
BEGIN:VEVENT
DTSTART;TZID=UTC:20180520T190000
DTEND;TZID=UTC:20180520T203000
DTSTAMP:20260423T012746
CREATED:20180410T221709Z
LAST-MODIFIED:20180410T221709Z
UID:3005-1526842800-1526848200@peterdoseck.com
SUMMARY:Soul Harvest Church
DESCRIPTION:Pastor Doseck will be ministering at Soul Harvest Church in Cloverdale\, Indiana with Pastor Matt Nichols on Sunday\, May 20 and Monday\, May 21 at 7:00 pm nightly. The church is located at 14 Crosswinds Dr. in Cloverdale. For more information you may go to www.shc4me.org or call 765-795-2350. \n
URL:https://peterdoseck.com/event/calvary-temple-2/2018-05-20/
LOCATION:Soul Harvest Church\, 14 Crosswinds Dr.\, Cloverdale\, IN\, 46120\, United States
END:VEVENT
END:VCALENDAR