BEGIN:VCALENDAR
VERSION:2.0
PRODID:-//PDM - Peter Doseck Ministries - ECPv5.1.2.1//NONSGML v1.0//EN
CALSCALE:GREGORIAN
METHOD:PUBLISH
X-WR-CALNAME:PDM - Peter Doseck Ministries
X-ORIGINAL-URL:https://peterdoseck.com
X-WR-CALDESC:Events for PDM - Peter Doseck Ministries
BEGIN:VTIMEZONE
TZID:UTC
BEGIN:STANDARD
TZOFFSETFROM:+0000
TZOFFSETTO:+0000
TZNAME:UTC
DTSTART:20180101T000000
END:STANDARD
END:VTIMEZONE
BEGIN:VEVENT
DTSTART;TZID=UTC:20180422T180000
DTEND;TZID=UTC:20180422T203000
DTSTAMP:20260423T044652
CREATED:20180109T203438Z
LAST-MODIFIED:20180109T203438Z
UID:2899-1524420000-1524429000@peterdoseck.com
SUMMARY:Calvary Temple
DESCRIPTION:Pastor Doseck will minister at Calvary Temple with Pastors Tim and Gwen Shuttlesworth on Sunday\, April 22 at 6:00 pm. The church is located at 28 Calvary Lane in Fairmont\, WV. For more information you may call 304.287.7678 or visit calvarytemplewv.com. \n
URL:https://peterdoseck.com/event/calvary-temple/
LOCATION:Calvary Temple\, 28 Calvary Lane\, Fairmont\, WV\, 26554\, United States
END:VEVENT
END:VCALENDAR