BEGIN:VCALENDAR
VERSION:2.0
PRODID:-//PDM - Peter Doseck Ministries - ECPv5.1.2.1//NONSGML v1.0//EN
CALSCALE:GREGORIAN
METHOD:PUBLISH
X-WR-CALNAME:PDM - Peter Doseck Ministries
X-ORIGINAL-URL:https://peterdoseck.com
X-WR-CALDESC:Events for PDM - Peter Doseck Ministries
BEGIN:VTIMEZONE
TZID:UTC
BEGIN:STANDARD
TZOFFSETFROM:+0000
TZOFFSETTO:+0000
TZNAME:UTC
DTSTART:20180101T000000
END:STANDARD
END:VTIMEZONE
BEGIN:VEVENT
DTSTART;TZID=UTC:20180107T180000
DTEND;TZID=UTC:20180107T200000
DTSTAMP:20260423T151245
CREATED:20171204T182333Z
LAST-MODIFIED:20171204T182333Z
UID:2854-1515348000-1515355200@peterdoseck.com
SUMMARY:Empowered Church
DESCRIPTION:Pastor Peter Doseck will be in service at Empowered Church (formerly Blanchard Avenue Pentecostal Church of God) with Pastors L.D. & Rhonda Roessler on Sunday\, January 7 at 6:00 pm. The church is located at 1701 Blanchard Ave in Findlay\, OH. You may call 419.422.0037 for more information. \nBring a friend\, and come celebrate all God is doing at Empowered Church in 2018! \n
URL:https://peterdoseck.com/event/empowered-church/
LOCATION:Empowered Church\, 1701 Blanchard Ave\, Findlay\, OH\, United States
END:VEVENT
END:VCALENDAR