BEGIN:VCALENDAR
VERSION:2.0
PRODID:-//PDM - Peter Doseck Ministries - ECPv5.1.2.1//NONSGML v1.0//EN
CALSCALE:GREGORIAN
METHOD:PUBLISH
X-WR-CALNAME:PDM - Peter Doseck Ministries
X-ORIGINAL-URL:https://peterdoseck.com
X-WR-CALDESC:Events for PDM - Peter Doseck Ministries
BEGIN:VTIMEZONE
TZID:UTC
BEGIN:STANDARD
TZOFFSETFROM:+0000
TZOFFSETTO:+0000
TZNAME:UTC
DTSTART:20180101T000000
END:STANDARD
END:VTIMEZONE
BEGIN:VEVENT
DTSTART;TZID=UTC:20181018T183000
DTEND;TZID=UTC:20181018T203000
DTSTAMP:20260422T135322
CREATED:20181009T203418Z
LAST-MODIFIED:20181011T214902Z
UID:3236-1539887400-1539894600@peterdoseck.com
SUMMARY:Herkimer\, NY Miracle Services
DESCRIPTION:Pastor Peter Doseck will minister in Miracle Services with Pastor David Hayner at New Life Center in Herkimer\, NY on October 18 & 19 at 6:30 pm nightly. For more information\, you may call 315.866.1164 or visit www.nlc-mc.org. \n
URL:https://peterdoseck.com/event/herkimer-ny-miracle-services/2018-10-18/
LOCATION:New Life Church\, 337 Protection Ave.\, Herkimer\, NY\, 13350\, United States
END:VEVENT
END:VCALENDAR