BEGIN:VCALENDAR
VERSION:2.0
PRODID:-//PDM - Peter Doseck Ministries - ECPv5.1.2.1//NONSGML v1.0//EN
CALSCALE:GREGORIAN
METHOD:PUBLISH
X-WR-CALNAME:PDM - Peter Doseck Ministries
X-ORIGINAL-URL:https://peterdoseck.com
X-WR-CALDESC:Events for PDM - Peter Doseck Ministries
BEGIN:VTIMEZONE
TZID:UTC
BEGIN:STANDARD
TZOFFSETFROM:+0000
TZOFFSETTO:+0000
TZNAME:UTC
DTSTART:20180101T000000
END:STANDARD
END:VTIMEZONE
BEGIN:VEVENT
DTSTART;TZID=UTC:20181202T190000
DTEND;TZID=UTC:20181202T210000
DTSTAMP:20260422T203813
CREATED:20181002T194323Z
LAST-MODIFIED:20181002T194539Z
UID:3228-1543777200-1543784400@peterdoseck.com
SUMMARY:Italy Miracle Services - Rome
DESCRIPTION:Pastor Peter Doseck will minister in Miracle Services with Pastors Fernando and Suzana DeFranca at Comunidade Evangelica Internancional Zone Sul in Rome on December 2. Apostle Marco A. Peixoto is the founder and president of CEIZS\, and each campus carries out a specific work dedicated to young people\, the family\, and the formation of leaders\, helping them to grow and develop in a healthy and edifying environment.We are excited to watch what God will do as the gospel is preached\, and signs follow the preaching of the Word! \n
URL:https://peterdoseck.com/event/italy-miracle-services-2/
LOCATION:Comunidade Evangelica Internacional Zone Sul\, Naples\, Italy
END:VEVENT
END:VCALENDAR