BEGIN:VCALENDAR
VERSION:2.0
PRODID:-//PDM - Peter Doseck Ministries - ECPv5.1.2.1//NONSGML v1.0//EN
CALSCALE:GREGORIAN
METHOD:PUBLISH
X-WR-CALNAME:PDM - Peter Doseck Ministries
X-ORIGINAL-URL:https://peterdoseck.com
X-WR-CALDESC:Events for PDM - Peter Doseck Ministries
BEGIN:VTIMEZONE
TZID:UTC
BEGIN:STANDARD
TZOFFSETFROM:+0000
TZOFFSETTO:+0000
TZNAME:UTC
DTSTART:20190101T000000
END:STANDARD
END:VTIMEZONE
BEGIN:VEVENT
DTSTART;VALUE=DATE:20190926
DTEND;VALUE=DATE:20190927
DTSTAMP:20260423T214011
CREATED:20190709T235922Z
LAST-MODIFIED:20190709T235922Z
UID:3674-1569456000-1569542399@peterdoseck.com
SUMMARY:Kampala Miracle Conference
DESCRIPTION:Pastor Peter Doseck will travel to Kampala\, Uganda on September 26 & 27 for a Miracle Conference at Christian Life Church with Pastor Jackson Senyonga. Pastor Doseck will minister to over 40\,000 pastors with impartation and equipping for the miraculous. This means in September alone we will reach over 58\,000 pastors\, which is more than we have reached in all of our years of ministry at PDM. Hallelujah for such a great privilege! \n
URL:https://peterdoseck.com/event/kampala-miracle-conference/2019-09-26/
END:VEVENT
END:VCALENDAR