BEGIN:VCALENDAR
VERSION:2.0
PRODID:-//PDM - Peter Doseck Ministries - ECPv5.1.2.1//NONSGML v1.0//EN
CALSCALE:GREGORIAN
METHOD:PUBLISH
X-WR-CALNAME:PDM - Peter Doseck Ministries
X-ORIGINAL-URL:https://peterdoseck.com
X-WR-CALDESC:Events for PDM - Peter Doseck Ministries
BEGIN:VTIMEZONE
TZID:UTC
BEGIN:STANDARD
TZOFFSETFROM:+0000
TZOFFSETTO:+0000
TZNAME:UTC
DTSTART:20180101T000000
END:STANDARD
END:VTIMEZONE
BEGIN:VEVENT
DTSTART;TZID=UTC:20181003T190000
DTEND;TZID=UTC:20181003T210000
DTSTAMP:20260422T121528
CREATED:20180801T221223Z
LAST-MODIFIED:20180801T221223Z
UID:3168-1538593200-1538600400@peterdoseck.com
SUMMARY:Kampala\, Uganda Miracle Crusade
DESCRIPTION:The Kampala Uganda Miracle Crusade will be held October 3-7\, 2018. This is a return ministry trip to the city of Kampala where we will be with Pastor Jackson Senyonga of Christian Life Ministries. We expect over 150\,000 in attendance on the crusade grounds\, and we will minister to nearly 20\,000 children in their own special meetings. We plan to dig a well for a poor section of the city\, and we will build an orphanage. We will also minister to pastors in impartation sessions\, so that they in turn can bless their communities. We appreciate all of our faithful Partners\, and we covet your prayers as we approach this important fall trip. Your giving and prayers of intercession mean the world to me. I am honored to partner with you in this vital outreach around the world\, and I pray for you often for God’s blessings to overtake you. \n
URL:https://peterdoseck.com/event/kampala-uganda-miracle-crusade-2/2018-10-03/
LOCATION:Christian Life Ministries\, Uganda
END:VEVENT
END:VCALENDAR