BEGIN:VCALENDAR
VERSION:2.0
PRODID:-//PDM - Peter Doseck Ministries - ECPv5.1.2.1//NONSGML v1.0//EN
CALSCALE:GREGORIAN
METHOD:PUBLISH
X-WR-CALNAME:PDM - Peter Doseck Ministries
X-ORIGINAL-URL:https://peterdoseck.com
X-WR-CALDESC:Events for PDM - Peter Doseck Ministries
BEGIN:VTIMEZONE
TZID:UTC
BEGIN:STANDARD
TZOFFSETFROM:+0000
TZOFFSETTO:+0000
TZNAME:UTC
DTSTART:20180101T000000
END:STANDARD
END:VTIMEZONE
BEGIN:VEVENT
DTSTART;TZID=UTC:20180715T100000
DTEND;TZID=UTC:20180715T120000
DTSTAMP:20260422T222007
CREATED:20180621T200415Z
LAST-MODIFIED:20180621T200415Z
UID:3119-1531648800-1531656000@peterdoseck.com
SUMMARY:Lone Tree
DESCRIPTION:Pastor Doseck will minister with Dr. Tim and Pastor Gayla Bagwell at Word of Life Christian Center in Lone Tree\, CO on Sunday\, July 15 at 10am & 6pm. For more information you may visit wolcc.net or call 877.237.8210. \n
URL:https://peterdoseck.com/event/lone-tree/2018-07-15/
LOCATION:Word of Life Christian Center\, 8700 E. Park Meadows Dr.\, Lone Tree\, CO\, 80124\, United States
END:VEVENT
END:VCALENDAR