BEGIN:VCALENDAR
VERSION:2.0
PRODID:-//PDM - Peter Doseck Ministries - ECPv5.1.2.1//NONSGML v1.0//EN
CALSCALE:GREGORIAN
METHOD:PUBLISH
X-WR-CALNAME:PDM - Peter Doseck Ministries
X-ORIGINAL-URL:https://peterdoseck.com
X-WR-CALDESC:Events for PDM - Peter Doseck Ministries
BEGIN:VTIMEZONE
TZID:UTC
BEGIN:STANDARD
TZOFFSETFROM:+0000
TZOFFSETTO:+0000
TZNAME:UTC
DTSTART:20190101T000000
END:STANDARD
END:VTIMEZONE
BEGIN:VEVENT
DTSTART;VALUE=DATE:20190423
DTEND;VALUE=DATE:20190424
DTSTAMP:20260423T125112
CREATED:20190326T232211Z
LAST-MODIFIED:20190326T232211Z
UID:3511-1555977600-1556063999@peterdoseck.com
SUMMARY:Masindi\, Uganda Miracle Crusade
DESCRIPTION:We will minister in a Miracle Crusade in Masindi\, Uganda on April 23 – 25\, where we expect to reach hundreds of thousands of people in the course of our three days there. We are praying for tens of thousands of souls to be won to Jesus as part of our Million Souls campaign\, and we are praying for lives to be changed\, and for bodies to be healed by the thousands. We will also be honored to minister to over 1\,000 local pastors with impartation services\, giving them materials to help them grow their congregations and bring miracles to their home churches. We always consider your giving and prayers a wonderful blessing\, and we thank you for all you do for Peter Doseck Ministries. God bless you! \n
URL:https://peterdoseck.com/event/masindi-uganda-miracle-crusade/2019-04-23/
END:VEVENT
END:VCALENDAR