BEGIN:VCALENDAR
VERSION:2.0
PRODID:-//PDM - Peter Doseck Ministries - ECPv5.1.2.1//NONSGML v1.0//EN
CALSCALE:GREGORIAN
METHOD:PUBLISH
X-WR-CALNAME:PDM - Peter Doseck Ministries
X-ORIGINAL-URL:https://peterdoseck.com
X-WR-CALDESC:Events for PDM - Peter Doseck Ministries
BEGIN:VTIMEZONE
TZID:UTC
BEGIN:STANDARD
TZOFFSETFROM:+0000
TZOFFSETTO:+0000
TZNAME:UTC
DTSTART:20190101T000000
END:STANDARD
END:VTIMEZONE
BEGIN:VEVENT
DTSTART;TZID=UTC:20190116T190000
DTEND;TZID=UTC:20190116T210000
DTSTAMP:20260422T235733
CREATED:20181112T200511Z
LAST-MODIFIED:20181112T200511Z
UID:3288-1547665200-1547672400@peterdoseck.com
SUMMARY:Mexico City Miracle Services
DESCRIPTION:Pastor Peter Doseck will minister with Tim Ost in Miracle Services in Mexico City with Faith\, Hope\, and Love International Ministries at various locations on January 16 – 18\, 2019 at 7:00 pm nightly. \n
URL:https://peterdoseck.com/event/mexico-city-miracle-services/2019-01-16/
LOCATION:Mexico City\, Mexico
END:VEVENT
END:VCALENDAR