BEGIN:VCALENDAR
VERSION:2.0
PRODID:-//PDM - Peter Doseck Ministries - ECPv5.1.2.1//NONSGML v1.0//EN
CALSCALE:GREGORIAN
METHOD:PUBLISH
X-WR-CALNAME:PDM - Peter Doseck Ministries
X-ORIGINAL-URL:https://peterdoseck.com
X-WR-CALDESC:Events for PDM - Peter Doseck Ministries
BEGIN:VTIMEZONE
TZID:UTC
BEGIN:STANDARD
TZOFFSETFROM:+0000
TZOFFSETTO:+0000
TZNAME:UTC
DTSTART:20180101T000000
END:STANDARD
END:VTIMEZONE
BEGIN:VEVENT
DTSTART;TZID=UTC:20180117T173000
DTEND;TZID=UTC:20180117T193000
DTSTAMP:20260423T150807
CREATED:20171120T225018Z
LAST-MODIFIED:20171120T225533Z
UID:2821-1516210200-1516217400@peterdoseck.com
SUMMARY:Mexico City
DESCRIPTION:Pastor Doseck will minister in three great Miracle Services in Mexico City in January. He will visit three campuses of the Center of Faith\, Hope\, & Love\, including Zaragoza on the 18th\, Escatepec on the 18th\, and Centenario on the 19th. We are expecting great things to happen\, and we covet your prayer for souls\, for healings and miracles\, and for a touch of God on each life. \n
URL:https://peterdoseck.com/event/mexico-city/2018-01-17/
LOCATION:Mexico City\, Mexico
END:VEVENT
END:VCALENDAR