BEGIN:VCALENDAR
VERSION:2.0
PRODID:-//PDM - Peter Doseck Ministries - ECPv5.1.2.1//NONSGML v1.0//EN
CALSCALE:GREGORIAN
METHOD:PUBLISH
X-WR-CALNAME:PDM - Peter Doseck Ministries
X-ORIGINAL-URL:https://peterdoseck.com
X-WR-CALDESC:Events for PDM - Peter Doseck Ministries
BEGIN:VTIMEZONE
TZID:UTC
BEGIN:STANDARD
TZOFFSETFROM:+0000
TZOFFSETTO:+0000
TZNAME:UTC
DTSTART:20180101T000000
END:STANDARD
END:VTIMEZONE
BEGIN:VEVENT
DTSTART;TZID=UTC:20181028T183000
DTEND;TZID=UTC:20181028T203000
DTSTAMP:20260422T155357
CREATED:20180904T221900Z
LAST-MODIFIED:20181009T203451Z
UID:3199-1540751400-1540758600@peterdoseck.com
SUMMARY:Botkins Miracle Service
DESCRIPTION:Pastor Peter Doseck will minister in a Miracle Service at Only Believe Ministries in Botkins\, Ohio on Sunday\, October 28 at 6:30 pm. It will be an evening of worship\, the Word\, and prayer. Bring a friend who needs a touch from God\, and join your faith with ours for miracles! For more information\, go to obmcc.org. \n
URL:https://peterdoseck.com/event/miracle-service/
LOCATION:Only Believe Ministrties\, 13815 Botkins Rd.\, Botkins\, OH\, 45306\, United States
ORGANIZER;CN="Pastor%20Peter%20Doseck":MAILTO:pastordoseck@obmcc.org
END:VEVENT
END:VCALENDAR