BEGIN:VCALENDAR
VERSION:2.0
PRODID:-//PDM - Peter Doseck Ministries - ECPv5.1.2.1//NONSGML v1.0//EN
CALSCALE:GREGORIAN
METHOD:PUBLISH
X-WR-CALNAME:PDM - Peter Doseck Ministries
X-ORIGINAL-URL:https://peterdoseck.com
X-WR-CALDESC:Events for PDM - Peter Doseck Ministries
BEGIN:VTIMEZONE
TZID:UTC
BEGIN:STANDARD
TZOFFSETFROM:+0000
TZOFFSETTO:+0000
TZNAME:UTC
DTSTART:20190101T000000
END:STANDARD
END:VTIMEZONE
BEGIN:VEVENT
DTSTART;VALUE=DATE:20190402
DTEND;VALUE=DATE:20190403
DTSTAMP:20260423T092530
CREATED:20190226T014518Z
LAST-MODIFIED:20190226T015026Z
UID:3447-1554163200-1554249599@peterdoseck.com
SUMMARY:Philippines Miracle Services - Davao City
DESCRIPTION:Pastor Peter Doseck will minister in the Philippines\, in Davao City\, at DCBC Fellowship with Pastor Roberto Abrina on April 2 – 4. These services will be aired on DCBC TV\, reaching over 5 million households daily. Please be in prayer with us for souls to be won to Jesus\, and for healings and miracles to be abundant. God bless you! \n
URL:https://peterdoseck.com/event/philippines-miracle-services/2019-04-02/
LOCATION:DCBC Fellowship\, Davao City\, Philippines
END:VEVENT
END:VCALENDAR