BEGIN:VCALENDAR
VERSION:2.0
PRODID:-//PDM - Peter Doseck Ministries - ECPv5.1.2.1//NONSGML v1.0//EN
CALSCALE:GREGORIAN
METHOD:PUBLISH
X-WR-CALNAME:PDM - Peter Doseck Ministries
X-ORIGINAL-URL:https://peterdoseck.com
X-WR-CALDESC:Events for PDM - Peter Doseck Ministries
BEGIN:VTIMEZONE
TZID:UTC
BEGIN:STANDARD
TZOFFSETFROM:+0000
TZOFFSETTO:+0000
TZNAME:UTC
DTSTART:20200101T000000
END:STANDARD
END:VTIMEZONE
BEGIN:VEVENT
DTSTART;TZID=UTC:20200318T000000
DTEND;TZID=UTC:20200322T000000
DTSTAMP:20260424T073834
CREATED:20191122T004734Z
LAST-MODIFIED:20191122T004734Z
UID:3742-1584489600-1584835200@peterdoseck.com
SUMMARY:Philippines
DESCRIPTION:Pastor Doseck will be ministering in the Philippines from March 18 to 22\, 2020. On Wednesday\, March 18th\, he will be ministering live on Davao Christian Bible Channel (TV) in Davao City\, reaching over 5 million people with the gospel message. That evening\, he will hold a Miracle Service with Pastor Roberto Abrina at the church. Over 1\,000 are expected to attend. You can visit https://www.facebook.com/dcbc38 for more information. \nFrom Thursday\, March 19th\, to Sunday\, March 22nd\, Pastor Doseck will be holding training sessions for pastors and leaders during the day and Miracle Services with Bishop Ernesto Balili of Revival Ministries at a stadium in Cagayan de Oro each night. We’re anticipating crowds of 15\,000-20\,000 to attend nightly! Pray with us that the Word of God will go forth with signs and wonders\, and that the lost will be called to repentance. There’s nothing more beautiful in all the world than altars flooding with the tears of those dedicating their lives to Christ! \n
URL:https://peterdoseck.com/event/philippines/
END:VEVENT
END:VCALENDAR