BEGIN:VCALENDAR
VERSION:2.0
PRODID:-//PDM - Peter Doseck Ministries - ECPv5.1.2.1//NONSGML v1.0//EN
CALSCALE:GREGORIAN
METHOD:PUBLISH
X-WR-CALNAME:PDM - Peter Doseck Ministries
X-ORIGINAL-URL:https://peterdoseck.com
X-WR-CALDESC:Events for PDM - Peter Doseck Ministries
BEGIN:VTIMEZONE
TZID:UTC
BEGIN:STANDARD
TZOFFSETFROM:+0000
TZOFFSETTO:+0000
TZNAME:UTC
DTSTART:20180101T000000
END:STANDARD
END:VTIMEZONE
BEGIN:VEVENT
DTSTART;TZID=UTC:20181230T183000
DTEND;TZID=UTC:20181230T203000
DTSTAMP:20260422T222547
CREATED:20181112T200319Z
LAST-MODIFIED:20181112T200319Z
UID:3286-1546194600-1546201800@peterdoseck.com
SUMMARY:Prophetic Convocation
DESCRIPTION:Pastor Peter Doseck will minister in a Prophetic Convocation with other ministers on Sunday\, December 30 at 6:30 pm at Only Believe Ministries in Botkins\, Ohio. This will be an evening of worship\, the Word\, and an opportunity for the gifts of the Spirit to flow. Bring someone who needs a touch from God! \n
URL:https://peterdoseck.com/event/prophetic-convocation/
LOCATION:Only Believe Ministrties\, 13815 Botkins Rd.\, Botkins\, OH\, 45306\, United States
ORGANIZER;CN="Pastor%20Peter%20Doseck":MAILTO:pastordoseck@obmcc.org
END:VEVENT
END:VCALENDAR