BEGIN:VCALENDAR
VERSION:2.0
PRODID:-//PDM - Peter Doseck Ministries - ECPv5.1.2.1//NONSGML v1.0//EN
CALSCALE:GREGORIAN
METHOD:PUBLISH
X-WR-CALNAME:PDM - Peter Doseck Ministries
X-ORIGINAL-URL:https://peterdoseck.com
X-WR-CALDESC:Events for PDM - Peter Doseck Ministries
BEGIN:VTIMEZONE
TZID:UTC
BEGIN:STANDARD
TZOFFSETFROM:+0000
TZOFFSETTO:+0000
TZNAME:UTC
DTSTART:20200101T000000
END:STANDARD
END:VTIMEZONE
BEGIN:VEVENT
DTSTART;TZID=UTC:20200220T000000
DTEND;TZID=UTC:20200227T000000
DTSTAMP:20260424T060015
CREATED:20191122T004555Z
LAST-MODIFIED:20191122T004555Z
UID:3740-1582156800-1582761600@peterdoseck.com
SUMMARY:Rio de Janeiro
DESCRIPTION:Pastor Doseck will be traveling to Rio de Janeiro\, Brazil\, on February 20 to 27\, 2020. He will be ministering with Pastor Marco Peixoto at the Carnival Conference\, held at Comunidade Evangelica Internacional Zona Sul (CEIZS) — Praia do Flamengo 72A\, Flamengo Rio de Janerio\, RJ 22471-000. \nThis conference takes place during the Brazilian version of Mardi Gras. It is a massive event! The church will be sending hundreds of people out into the streets during Carnival to minister for and pray with crowds of carnival goers who gather in Rio for this holiday. Please pray with us for God’s power to be released during the Carnival Conference and lives to be changed on the streets of Rio! \nFor more information\, visit https://ceizs.com. \n
URL:https://peterdoseck.com/event/rio-de-janeiro/
END:VEVENT
END:VCALENDAR