BEGIN:VCALENDAR
VERSION:2.0
PRODID:-//PDM - Peter Doseck Ministries - ECPv5.1.2.1//NONSGML v1.0//EN
CALSCALE:GREGORIAN
METHOD:PUBLISH
X-WR-CALNAME:PDM - Peter Doseck Ministries
X-ORIGINAL-URL:https://peterdoseck.com
X-WR-CALDESC:Events for PDM - Peter Doseck Ministries
BEGIN:VTIMEZONE
TZID:UTC
BEGIN:STANDARD
TZOFFSETFROM:+0000
TZOFFSETTO:+0000
TZNAME:UTC
DTSTART:20190101T000000
END:STANDARD
END:VTIMEZONE
BEGIN:VEVENT
DTSTART;VALUE=DATE:20190619
DTEND;VALUE=DATE:20190620
DTSTAMP:20260423T162351
CREATED:20190423T223255Z
LAST-MODIFIED:20190605T161624Z
UID:3545-1560902400-1560988799@peterdoseck.com
SUMMARY:Motonto\, Kenya Miracle Crusade
DESCRIPTION:Pastor Peter Doseck will minister in a Miracle Crusade in Motonto\, Kenya (formerly Suneka) on June 19 – 23. The crusade will feature ministry to over 500 local pastors with impartation services and free Bible study materials\, an outreach to children in elementary and high schools for three days\, plus two children’s crusades on the weekend\, and nightly miracle ministry on the crusade grounds with over 100\,000 expected to attend. Please pray for thousands of souls to be won to Jesus\, and for lives to be touched and bodies to be healed in His name. Thank you! \n
URL:https://peterdoseck.com/event/suneka-kenya-miracle-crusade/2019-06-19/
END:VEVENT
END:VCALENDAR