BEGIN:VCALENDAR
VERSION:2.0
PRODID:-//PDM - Peter Doseck Ministries - ECPv5.1.2.1//NONSGML v1.0//EN
CALSCALE:GREGORIAN
METHOD:PUBLISH
X-WR-CALNAME:PDM - Peter Doseck Ministries
X-ORIGINAL-URL:https://peterdoseck.com
X-WR-CALDESC:Events for PDM - Peter Doseck Ministries
BEGIN:VTIMEZONE
TZID:UTC
BEGIN:STANDARD
TZOFFSETFROM:+0000
TZOFFSETTO:+0000
TZNAME:UTC
DTSTART:20180101T000000
END:STANDARD
END:VTIMEZONE
BEGIN:VEVENT
DTSTART;TZID=UTC:20180208T190000
DTEND;TZID=UTC:20180208T210000
DTSTAMP:20260423T112810
CREATED:20171120T225509Z
LAST-MODIFIED:20171128T194344Z
UID:2828-1518116400-1518123600@peterdoseck.com
SUMMARY:The King's Cathedral - Providence\, RI
DESCRIPTION:Pastor Peter Doseck will minister at The King’s Cathedral with Dr. Jeffery & Lelani Williams on February 8 & 9\, 2018 at 7:00 pm nightly. The church is located at 1860 Westminster Street in Providence\, RI. Please pray for this special time of ministry\, and if you are in the area\, please join us! For more information\, you may call 401-780-8900 or visit www.thekingscathedral.com. \n
URL:https://peterdoseck.com/event/the-kings-cathedral-providence-ri/2018-02-08/
LOCATION:The King’s Cathedral\, 1860 Westminster St.\, Providence\, RI\, United States
END:VEVENT
END:VCALENDAR