BEGIN:VCALENDAR
VERSION:2.0
PRODID:-//PDM - Peter Doseck Ministries - ECPv5.1.2.1//NONSGML v1.0//EN
CALSCALE:GREGORIAN
METHOD:PUBLISH
X-WR-CALNAME:PDM - Peter Doseck Ministries
X-ORIGINAL-URL:https://peterdoseck.com
X-WR-CALDESC:Events for PDM - Peter Doseck Ministries
BEGIN:VTIMEZONE
TZID:UTC
BEGIN:STANDARD
TZOFFSETFROM:+0000
TZOFFSETTO:+0000
TZNAME:UTC
DTSTART:20190101T000000
END:STANDARD
END:VTIMEZONE
BEGIN:VEVENT
DTSTART;TZID=UTC:20191010T190000
DTEND;TZID=UTC:20191010T203000
DTSTAMP:20260424T021728
CREATED:20190711T204241Z
LAST-MODIFIED:20190711T204241Z
UID:3695-1570734000-1570739400@peterdoseck.com
SUMMARY:Victory International Church
DESCRIPTION:Pastor Doseck will minister with Pastors Kingsley & Rita Osei  at Victory International Church in Hamilton\, Ontario on Thursday\, October 10 at 7:00 pm. More information is available by calling 905.549.0981. \n
URL:https://peterdoseck.com/event/victory-international-church-2/
END:VEVENT
END:VCALENDAR