BEGIN:VCALENDAR
VERSION:2.0
PRODID:-//PDM - Peter Doseck Ministries - ECPv5.1.2.1//NONSGML v1.0//EN
CALSCALE:GREGORIAN
METHOD:PUBLISH
X-WR-CALNAME:PDM - Peter Doseck Ministries
X-ORIGINAL-URL:https://peterdoseck.com
X-WR-CALDESC:Events for PDM - Peter Doseck Ministries
BEGIN:VTIMEZONE
TZID:UTC
BEGIN:STANDARD
TZOFFSETFROM:+0000
TZOFFSETTO:+0000
TZNAME:UTC
DTSTART:20190101T000000
END:STANDARD
END:VTIMEZONE
BEGIN:VEVENT
DTSTART;TZID=UTC:20190811T100000
DTEND;TZID=UTC:20190811T120000
DTSTAMP:20260423T182539
CREATED:20190716T161213Z
LAST-MODIFIED:20190716T210309Z
UID:3711-1565517600-1565524800@peterdoseck.com
SUMMARY:Word of Life Christian Center
DESCRIPTION:Pastor Peter Doseck will minister at Word of Life Christian Center in Lonetree\, CO on Sunday\, August 11 at 10:00 am and 6:00 pm. For more information\, you may visit wolcc.net or call 877.237.8210. \n
URL:https://peterdoseck.com/event/word-of-life-christian-center-2/2019-08-11/
END:VEVENT
END:VCALENDAR