BEGIN:VCALENDAR
VERSION:2.0
PRODID:-//PDM - Peter Doseck Ministries - ECPv5.1.2.1//NONSGML v1.0//EN
CALSCALE:GREGORIAN
METHOD:PUBLISH
X-WR-CALNAME:PDM - Peter Doseck Ministries
X-ORIGINAL-URL:https://peterdoseck.com
X-WR-CALDESC:Events for PDM - Peter Doseck Ministries
BEGIN:VTIMEZONE
TZID:UTC
BEGIN:STANDARD
TZOFFSETFROM:+0000
TZOFFSETTO:+0000
TZNAME:UTC
DTSTART:20180101T000000
END:STANDARD
END:VTIMEZONE
BEGIN:VEVENT
DTSTART;TZID=UTC:20180808T190000
DTEND;TZID=UTC:20180808T203000
DTSTAMP:20260422T203813
CREATED:20180510T195242Z
LAST-MODIFIED:20180530T224111Z
UID:3033-1533754800-1533760200@peterdoseck.com
SUMMARY:FaithPointe Lexington
DESCRIPTION:Pastor Doseck will minister at FaithPointe in Lexington\, KY with Bishop James Rayburn and Rev. Terry Lewis on August 8 thru 10 at 7:00 pm nightly\, with a Friday 10:00 am session for leaders. The church is located at 2130 Trade Center Dr. in Lexington. For more information you may go to faithpointelexington.com or call 859.258.2010. \n
URL:https://peterdoseck.com/event/word-of-life-christian-center/2018-08-08/
LOCATION:FaithPointe Lexington\, 2130 Trade Center Dr.\, Lexington\, KY\, 40509\, United States
END:VEVENT
END:VCALENDAR